BEGIN:VCALENDAR
VERSION:2.0
PRODID:-//RICAIP - ECPv6.15.20//NONSGML v1.0//EN
CALSCALE:GREGORIAN
METHOD:PUBLISH
X-ORIGINAL-URL:https://ricaip.eu
X-WR-CALDESC:Events for RICAIP
REFRESH-INTERVAL;VALUE=DURATION:PT1H
X-Robots-Tag:noindex
X-PUBLISHED-TTL:PT1H
BEGIN:VTIMEZONE
TZID:Europe/Paris
BEGIN:DAYLIGHT
TZOFFSETFROM:+0100
TZOFFSETTO:+0200
TZNAME:CEST
DTSTART:20230326T010000
END:DAYLIGHT
BEGIN:STANDARD
TZOFFSETFROM:+0200
TZOFFSETTO:+0100
TZNAME:CET
DTSTART:20231029T010000
END:STANDARD
BEGIN:DAYLIGHT
TZOFFSETFROM:+0100
TZOFFSETTO:+0200
TZNAME:CEST
DTSTART:20240331T010000
END:DAYLIGHT
BEGIN:STANDARD
TZOFFSETFROM:+0200
TZOFFSETTO:+0100
TZNAME:CET
DTSTART:20241027T010000
END:STANDARD
BEGIN:DAYLIGHT
TZOFFSETFROM:+0100
TZOFFSETTO:+0200
TZNAME:CEST
DTSTART:20250330T010000
END:DAYLIGHT
BEGIN:STANDARD
TZOFFSETFROM:+0200
TZOFFSETTO:+0100
TZNAME:CET
DTSTART:20251026T010000
END:STANDARD
END:VTIMEZONE
BEGIN:VEVENT
DTSTART;TZID=Europe/Paris:20240625T084500
DTEND;TZID=Europe/Paris:20240626T140000
DTSTAMP:20260421T131829
CREATED:20240208T213249Z
LAST-MODIFIED:20240430T124731Z
UID:12270-1719305100-1719410400@ricaip.eu
SUMMARY:Progressive CNC Production for Secondary Technical Schools
DESCRIPTION:RICAIP is pleased to partner with SolidVision company and its partners in this event and welcome students of the secondary vocational schools.  \n\n\n\nAt our  RICAIP Testbed Prague at CIIRC CTU\, Laboratory of Robotics and Production Technologies\, young future engineers will learn about: \n\n\n\n\ncutting-edge production  technologies with focus on welding and laser  technologies\n\n\n\nexplanation from experst both from academia and industry\n\n\n\ndemonstrations of latest approaches on real machinery at our testbed\n\n\n\n\n\n\n\n\n\n\n\n\n\n\n\n\n\n\n\n\n\n\n\n\n\n\n\n\n\n\n\n\n\n\n\n\n\n\n\n\n\n\n\n\n\n\n\n\nAgenda\n\n\n\n25 June 2024\, Tue + 26 June 2024\, Wed\n\n\n\n\n\n8:45 Registration (room A-101\, building A\, ground floor \n\n\n\n9:15-10:00 Welcome\, introduction of the organisers – CTU\, SolidVision\, CERATIZIT \n\n\n\n10:00-10:10 Break \n\n\n\n\n\n\n\nExpert presentations (room A-101\, building A\, ground floor) \n\n\n\n10:10-10:25 Cutting tools10:2510:40 Productive machining on a CNC machine10:40-10:55 Robots in engineering production \n\n\n\nBreak \n\n\n\n11:00-11:15 Laser technologies11:15-11:30 Measurement of machine parts \n\n\n\nBreak \n\n\n\n\n\n\n\nHands-on demonstrations in the RICAIP Testbed Prague: Robotics and Manufacturing Technology Laboratory:12:00-12:20 Preparation of cutting tools12:20-12:40 Machining on a CNC machine12:40-13:00 Engineering production and robotics13:00-13:20 Determining the accuracy of part dimensions \n\n\n\n\n\n\n\nWrap-up  (room A-101\, building A\, ground floor)13:30-14:00 Final presentations and discussions
URL:https://ricaip.eu/events/seminar-cnc-manufacturing/
ATTACH;FMTTYPE=image/png:https://ricaip.eu/wp-content/uploads/2024/02/SolidVision_akce.png
END:VEVENT
END:VCALENDAR